Workbook

Sheet RWB
F2: 44197
B3: FINIQUITO
B5: Fecha de ingreso | E5: SD
B6: Fecha de baja | E6: SMZ ^ 2 | F6: =141.7*2 -> 283.4
E7: DLDA | F7: =DAYS360(D5,D6)+5 -> 5
B8: PERCEPCIONES | E8: DEDUCIONES
B9: Concepto | D9: Importe | E9: Concepto | F9: Importe
B10: Salario | C10: 15 | D10: =F5*C10 -> 0 | E10: I.S.R. (SALARIO) | F10: =IFERROR(I.S.R.!J5,0) -> 0
B11: Vacaciones | C11: 3 | D11: =C11*F5 -> 0 | E11: ISR (AGUINALDO) | F11: =IFERROR(I.S.R.!J8,0) -> 0
B12: Prima de vacaciones | C12: 0.25 | D12: =D11*C12 -> 0 | E12: ISR (VACACIONES) | F12: =IFERROR(I.S.R.!J9,0) -> 0
B13: Aguinaldo | C13: 15 | D13: =(C13/365*(D6-F2))*F5 -> 0 | E13: ISR (PRIMA VAC) | F13: =IFERROR(I.S.R.!J10,0) -> 0
B14: 3 Meses | C14: 90 | D14: =C14*F5 -> 0 | E14: ISR (INDEMNIZACION) | F14: =IFERROR(I.S.R.!J13,0) -> 0
B15: Prima De Antigüedad | C15: =(12/365)*(F7) -> 0.16438356 | D15: =F6*C15 -> 46.586301 | E15: ISR (PRIMA ANT) | F15: =IFERROR(I.S.R.!J14,0) -> 0
B16: 20 Días por año | C16: =(20/365)*(F7) -> 0.2739726 | D16: =F5*C16 -> 0 | E16: ISR (20 DÍAS) | F16: =IFERROR(I.S.R.!J15,0) -> 0
B17: Suma Percepciones | D17: =SUM(D10:D16) -> 46.586301 | E17: Suma deducciones | F17: =SUM(F10:F16) -> 0
E18: Neto a pagar | F18: =D17-F17 -> 46.586301
B20: Recibí de la empresa arriba mencionada,
B21: la cantidad neta a que este documento
B22: se refiere, estando conforme con las
B23: percepciones y deducciones que en el
B24: aparecen especificados. | E24: Firma del Empleado

Sheet I.S.R.
A2: CALCULO DE I. S. R. | F2: UMA: | G2: 89.62
B4: Ingresos Grav. | C4: Lim. Inf. | D4: Exc. S/L. I. | E4: % Exc. S/L. I. | F4: ISR Marginal | G4: Cuota Fija | H4: Impuesto | I4: SAE | J4: ISR o (CAS) | L4: MENSUAL | Q4: QUINCENAL | V4: CATORCENAL | AA4: SEMANAL
A5: ISR SALARIOS | B5: =RWB!D10 -> 0 | C5: =VLOOKUP(B5,$Q$10:$T$21,1) -> #N/A | D5: =+B5-C5 -> #N/A | E5: =VLOOKUP(B5,$Q$10:$T$21,4) -> #N/A | F5: =+D5*E5 -> #N/A | G5: =VLOOKUP(B5,$Q$10:$T$21,3) -> #N/A | H5: =F5+G5 -> #N/A | I5: =VLOOKUP(B5,$Q$30:$S$40,3) -> #N/A | J5: =H5-I5 -> #N/A | L5: TARIFA ISR | Q5: TARIFA ISR | V5: TARIFA ISR | AA5: TARIFA ISR
B7: Ingresos Grav. | C7: Lim. Inf. | D7: Exc. S/L. I. | E7: % Exc. S/L. I. | F7: ISR Marginal | G7: Cuota Fija | H7: Impuesto | I7: SAE | J7: ISR o (CAS) | L7: LIMITE | M7: LIMITE | N7: CUOTA | O7: % SOBRE | Q7: LIMITE | R7: LIMITE | S7: CUOTA | T7: % SOBRE | V7: LIMITE | W7: LIMITE | X7: CUOTA | Y7: % SOBRE | AA7: LIMITE | AB7: LIMITE | AC7: CUOTA | AD7: % SOBRE
A8: ISR AGUINALDO (30 UMAS) | B8: =RWB!D13-(G2*30) -> -2688.6 | C8: =VLOOKUP(B8,$L$10:$O$21,1) -> #N/A | D8: =+B8-C8 -> #N/A | E8: =VLOOKUP(B8,$L$10:$O$21,4) -> #N/A | F8: =+D8*E8 -> #N/A | G8: =VLOOKUP(B8,$L$10:$O$21,3) -> #N/A | H8: =F8+G8 -> #N/A | J8: =H8-I8 -> #N/A | L8: INFERIOR | M8: SUPERIOR | N8: FIJA | O8: EXCEDENTE | Q8: INFERIOR | R8: SUPERIOR | S8: FIJA | T8: EXCEDENTE | V8: INFERIOR | W8: SUPERIOR | X8: FIJA | Y8: EXCEDENTE | AA8: INFERIOR | AB8: SUPERIOR | AC8: FIJA | AD8: EXCEDENTE
A9: ISR VACACIONES | B9: =RWB!D11 -> 0 | C9: =VLOOKUP(B9,$L$10:$O$21,1) -> #N/A | D9: =+B9-C9 -> #N/A | E9: =VLOOKUP(B9,$L$10:$O$21,4) -> #N/A | F9: =+D9*E9 -> #N/A | G9: =VLOOKUP(B9,$L$10:$O$21,3) -> #N/A | H9: =F9+G9 -> #N/A | J9: =H9-I9 -> #N/A
A10: ISR PV (15 UMAS) | B10: =(RWB!D12-15*G2) -> -1344.3 | C10: =VLOOKUP(B10,$L$10:$O$21,1) -> #N/A | D10: =+B10-C10 -> #N/A | E10: =VLOOKUP(B10,$L$10:$O$21,4) -> #N/A | F10: =+D10*E10 -> #N/A | G10: =VLOOKUP(B10,$L$10:$O$21,3) -> #N/A | H10: =F10+G10 -> #N/A | J10: =H10-I10 -> #N/A | L10: 0.01 | M10: =+L11-0.01 -> 644.58 | N10: 0 | O10: 0.0192 | Q10: 0.01 | R10: =+Q11-0.01 -> 318.04428 | S10: 0 | T10: =+O10 -> 0.0192 | V10: 0.01 | W10: =+V11-0.01 -> 296.84066 | X10: 0 | Y10: =+O10 -> 0.0192 | AA10: 0.01 | AB10: =+AA11-0.01 -> 148.41533 | AC10: 0 | AD10: =+T10 -> 0.0192
L11: 644.59 | M11: =+L12-0.01 -> 5470.92 | N11: 12.38 | O11: 0.064 | Q11: =(L11/30.4)*15 -> 318.05428 | R11: =+Q12-0.01 -> 2699.462 | S11: =(N11/30.4)*15 -> 6.1085526 | T11: =+O11 -> 0.064 | V11: =(L11/30.4)*14 -> 296.85066 | W11: =+V12-0.01 -> 2519.4972 | X11: =(N11/30.4)*14 -> 5.7013158 | Y11: =+O11 -> 0.064 | AA11: =+(L11/30.4)*7 -> 148.42533 | AB11: =+AA12-0.01 -> 1259.7436 | AC11: =+N11/15*7 -> 5.7773333 | AD11: =+T11 -> 0.064
B12: Ingresos Grav. | C12: Lim. Inf. | D12: Exc. S/L. I. | E12: % Exc. S/L. I. | F12: ISR Marginal | G12: Cuota Fija | H12: Impuesto | I12: SAE | J12: ISR o (CAS) | L12: 5470.93 | M12: =+L13-0.01 -> 9614.66 | N12: 321.26 | O12: 0.1088 | Q12: =(L12/30.4)*15 -> 2699.472 | R12: =+Q13-0.01 -> 4744.0706 | S12: =(N12/30.4)*15 -> 158.51645 | T12: =+O12 -> 0.1088 | V12: =(L12/30.4)*14 -> 2519.5072 | W12: =+V13-0.01 -> 4427.7986 | X12: =(N12/30.4)*14 -> 147.94868 | Y12: =+O12 -> 0.1088 | AA12: =+(L12/30.4)*7 -> 1259.7536 | AB12: =+AA13-0.01 -> 2213.8943 | AC12: =+N12/15*7 -> 149.92133 | AD12: =+T12 -> 0.1088
A13: ISR 90 DIAS (90 UMAS) | B13: =RWB!D14-(G2*90) -> -8065.8 | C13: =VLOOKUP(B13,$L$10:$O$21,1) -> #N/A | D13: =+B13-C13 -> #N/A | E13: =VLOOKUP(B13,$L$10:$O$21,4) -> #N/A | F13: =+D13*E13 -> #N/A | G13: =VLOOKUP(B13,$L$10:$O$21,3) -> #N/A | H13: =F13+G13 -> #N/A | J13: =H13-I13 -> #N/A | L13: 9614.67 | M13: =+L14-0.01 -> 11176.62 | N13: 772.1 | O13: 0.16 | Q13: =(L13/30.4)*15 -> 4744.0806 | R13: =+Q14-0.01 -> 5514.7745 | S13: =(N13/30.4)*15 -> 380.97039 | T13: =+O13 -> 0.16 | V13: =(L13/30.4)*14 -> 4427.8086 | W13: =+V14-0.01 -> 5147.1222 | X13: =(N13/30.4)*14 -> 355.57237 | Y13: =+O13 -> 0.16 | AA13: =+(L13/30.4)*7 -> 2213.9043 | AB13: =+AA14-0.01 -> 2573.5561 | AC13: =+N13/15*7 -> 360.31333 | AD13: =+T13 -> 0.16
A14: ISR PRIMA ANT (90 UMAS) | B14: =(RWB!D15-90*G2) -> -8019.2137 | C14: =VLOOKUP(B14,$L$10:$O$21,1) -> #N/A | D14: =+B14-C14 -> #N/A | E14: =VLOOKUP(B14,$L$10:$O$21,4) -> #N/A | F14: =+D14*E14 -> #N/A | G14: =VLOOKUP(B14,$L$10:$O$21,3) -> #N/A | H14: =F14+G14 -> #N/A | J14: =H14-I14 -> #N/A | L14: 11176.63 | M14: =+L15-0.01 -> 13381.47 | N14: 1022.01 | O14: 0.1792 | Q14: =(L14/30.4)*15 -> 5514.7845 | R14: =+Q15-0.01 -> 6602.6939 | S14: =(N14/30.4)*15 -> 504.28125 | T14: =+O14 -> 0.1792 | V14: =(L14/30.4)*14 -> 5147.1322 | W14: =+V15-0.01 -> 6162.5137 | X14: =(N14/30.4)*14 -> 470.6625 | Y14: =+O14 -> 0.1792 | AA14: =+(L14/30.4)*7 -> 2573.5661 | AB14: =+AA15-0.01 -> 3081.2518 | AC14: =+N14/15*7 -> 476.938 | AD14: =+T14 -> 0.1792
A15: 20 DIAS (90 UMAS) | B15: =(RWB!D16-90*G2) -> -8065.8 | C15: =VLOOKUP(B15,$L$10:$O$21,1) -> #N/A | D15: =+B15-C15 -> #N/A | E15: =VLOOKUP(B15,$L$10:$O$21,4) -> #N/A | F15: =+D15*E15 -> #N/A | G15: =VLOOKUP(B15,$L$10:$O$21,3) -> #N/A | H15: =F15+G15 -> #N/A | J15: =H15-I15 -> #N/A | L15: 13381.48 | M15: =+L16-0.01 -> 26988.5 | N15: 1417.12 | O15: 0.2136 | Q15: =(L15/30.4)*15 -> 6602.7039 | R15: =+Q16-0.01 -> 13316.689 | S15: =(N15/30.4)*15 -> 699.23684 | T15: 0.2136 | V15: =(L15/30.4)*14 -> 6162.5237 | W15: =+V16-0.01 -> 12428.909 | X15: =(N15/30.4)*14 -> 652.62105 | Y15: =+O15 -> 0.2136 | AA15: =+(L15/30.4)*7 -> 3081.2618 | AB15: =+AA16-0.01 -> 6214.4495 | AC15: =+N15/15*7 -> 661.32267 | AD15: =+T15 -> 0.2136
L16: 26988.51 | M16: =+L17-0.01 -> 42537.58 | N16: 4323.58 | O16: 0.2352 | Q16: =(L16/30.4)*15 -> 13316.699 | R16: =+Q17-0.01 -> 20988.932 | S16: =(N16/30.4)*15 -> 2133.3454 | T16: 0.2352 | V16: =(L16/30.4)*14 -> 12428.919 | W16: =+V17-0.01 -> 19589.67 | X16: =(N16/30.4)*14 -> 1991.1224 | Y16: =+O16 -> 0.2352 | AA16: =+(L16/30.4)*7 -> 6214.4595 | AB16: =+AA17-0.01 -> 9794.8298 | AC16: =+N16/15*7 -> 2017.6707 | AD16: =+T16 -> 0.2352
B17: 15 UMAS | C17: =G2*15 -> 1344.3 | L17: 42537.59 | M17: =+L18-0.01 -> 81211.25 | N17: 7980.73 | O17: 0.3 | Q17: =(L17/30.4)*15 -> 20988.942 | R17: =+Q18-0.01 -> 40071.335 | S17: =(N17/30.4)*15 -> 3937.8602 | T17: 0.3 | V17: =(L17/30.4)*14 -> 19589.68 | W17: =+V18-0.01 -> 37399.912 | X17: =(N17/30.4)*14 -> 3675.3362 | Y17: =+O17 -> 0.3 | AA17: =+(L17/30.4)*7 -> 9794.8398 | AB17: =+AA18-0.01 -> 18699.951 | AC17: =+N17/15*7 -> 3724.3407 | AD17: =+T17 -> 0.3
B18: 30 UMAS | C18: =30*G2 -> 2688.6 | L18: 81211.26 | M18: =+L19-0.01 -> 108281.67 | N18: 19582.83 | O18: 0.32 | Q18: =(L18/30.4)*15 -> 40071.345 | R18: =+Q19-0.01 -> 53428.451 | S18: =(N18/30.4)*15 -> 9662.5806 | T18: 0.32 | V18: =(L18/30.4)*14 -> 37399.922 | W18: =+V19-0.01 -> 49866.553 | X18: =(N18/30.4)*14 -> 9018.4086 | Y18: =+O18 -> 0.32 | AA18: =+(L18/30.4)*7 -> 18699.961 | AB18: =+AA19-0.01 -> 24933.272 | AC18: =+N18/15*7 -> 9138.654 | AD18: =+T18 -> 0.32
B19: 90 UMAS | C19: =90*G2 -> 8065.8 | L19: 108281.68 | M19: =+L21-0.01 -> 324845.01 | N19: 28245.36 | O19: 0.34 | Q19: =(L19/30.4)*15 -> 53428.461 | R19: =+Q21-0.01 -> 160285.36 | S19: =(N19/30.4)*15 -> 13936.855 | T19: 0.34 | V19: =(L19/30.4)*14 -> 49866.563 | W19: =+V21-0.01 -> 149599.67 | X19: =(N19/30.4)*14 -> 13007.732 | Y19: =+O19 -> 0.34 | AA19: =+(L19/30.4)*7 -> 24933.282 | AB19: =+AA21-0.01 -> 74799.83 | AC19: =+N19/15*7 -> 13181.168 | AD19: =+T19 -> 0.34
L21: 324845.02 | M21: 999999.00 | N21: 101876.9 | O21: 0.35 | Q21: =(L21/30.4)*15 -> 160285.37 | R21: 9999999 | S21: =(N21/30.4)*15 -> 50268.207 | T21: 0.35 | V21: =(L21/30.4)*14 -> 149599.68 | W21: 9999999 | X21: =(N21/30.4)*14 -> 46916.993 | Y21: =+O21 -> 0.35 | AA21: =+(L21/30.4)*7 -> 74799.84 | AB21: 9999999 | AC21: =+N21/15*7 -> 47542.553 | AD21: =+T21 -> 0.35
L26: TARIFA SUBSIDIO PARA EL EMPLEO | Q26: TARIFA SUBSIDIO PARA EL EMPLEO | V26: TARIFA SUBSIDIO PARA EL EMPLEO | AA26: TARIFA SUBSIDIO PARA EL EMPLEO
L27: PARA | M27: HASTA | N27: SUBSIDIO | Q27: PARA | R27: HASTA | S27: CREDITO | V27: PARA | W27: HASTA | X27: CREDITO | AA27: PARA | AB27: HASTA | AC27: CREDITO
L28: ING DE | M28: ING DE | N28: AL EMPLEO | Q28: ING DE | R28: ING DE | S28: SALARIO | V28: ING DE | W28: ING DE | X28: SALARIO | AA28: ING DE | AB28: ING DE | AC28: SALARIO
L30: 0.01 | M30: =+L31-0.01 -> 1768.96 | N30: 407.02 | Q30: 0.01 | R30: =+Q31-0.01 -> 872.83704 | S30: =(N30/30.4)*15 -> 200.83224 | V30: 0.01 | W30: =+V31-0.01 -> 814.64724 | X30: =(N30/30.4)*14 -> 187.44342 | AA30: 0.01 | AB30: =+AA31-0.01 -> 407.31862 | AC30: =+S30/15*7 -> 93.721711
L31: 1768.97 | M31: =+L32-0.01 -> 2653.38 | N31: 406.83 | Q31: =(L31/30.4)*15 -> 872.84704 | R31: =+Q32-0.01 -> 1309.2285 | S31: =(N31/30.4)*15 -> 200.73849 | V31: =(L31/30.4)*14 -> 814.65724 | W31: =+V32-0.01 -> 1221.9459 | X31: =(N31/30.4)*14 -> 187.35592 | AA31: =+Q31/15*7 -> 407.32862 | AB31: =+AA32-0.01 -> 610.96796 | AC31: =+S31/15*7 -> 93.677961
L32: 2653.39 | M32: =+L33-0.01 -> 3472.84 | N32: 406.62 | Q32: =(L32/30.4)*15 -> 1309.2385 | R32: =+Q33-0.01 -> 1713.5673 | S32: =(N32/30.4)*15 -> 200.63487 | V32: =(L32/30.4)*14 -> 1221.9559 | W32: =+V33-0.01 -> 1599.3288 | X32: =(N32/30.4)*14 -> 187.25921 | AA32: =+Q32/15*7 -> 610.97796 | AB32: =+AA33-0.01 -> 799.65941 | AC32: =+S32/15*7 -> 93.629605
L33: 3472.85 | M33: =+L34-0.01 -> 3537.87 | N33: 392.77 | Q33: =(L33/30.4)*15 -> 1713.5773 | R33: =+Q34-0.01 -> 1745.6545 | S33: =(N33/30.4)*15 -> 193.80099 | V33: =(L33/30.4)*14 -> 1599.3388 | W33: =+V34-0.01 -> 1629.2768 | X33: =(N33/30.4)*14 -> 180.88092 | AA33: =+Q33/15*7 -> 799.66941 | AB33: =+AA34-0.01 -> 814.63342 | AC33: =+S33/15*7 -> 90.440461
L34: 3537.88 | M34: =+L35-0.01 -> 4446.15 | N34: 382.46 | Q34: =(L34/30.4)*15 -> 1745.6645 | R34: =+Q35-0.01 -> 2193.8189 | S34: =(N34/30.4)*15 -> 188.71382 | V34: =(L34/30.4)*14 -> 1629.2868 | W34: =+V35-0.01 -> 2047.5637 | X34: =(N34/30.4)*14 -> 176.13289 | AA34: =+Q34/15*7 -> 814.64342 | AB34: =+AA35-0.01 -> 1023.7768 | AC34: =+S34/15*7 -> 88.066447
L35: 4446.16 | M35: =+L36-0.01 -> 4717.18 | N35: 354.23 | Q35: =(L35/30.4)*15 -> 2193.8289 | R35: =+Q36-0.01 -> 2327.5509 | S35: =(N35/30.4)*15 -> 174.78454 | V35: =(L35/30.4)*14 -> 2047.5737 | W35: =+V36-0.01 -> 2172.3801 | X35: =(N35/30.4)*14 -> 163.13224 | AA35: =+Q35/15*7 -> 1023.7868 | AB35: =+AA36-0.01 -> 1086.1851 | AC35: =+S35/15*7 -> 81.566118
L36: 4717.19 | M36: =+L37-0.01 -> 5335.42 | N36: 324.87 | Q36: =(L36/30.4)*15 -> 2327.5609 | R36: =+Q37-0.01 -> 2632.6035 | S36: =(N36/30.4)*15 -> 160.2977 | V36: =(L36/30.4)*14 -> 2172.3901 | W36: =+V37-0.01 -> 2457.0959 | X36: =(N36/30.4)*14 -> 149.61118 | AA36: =+Q36/15*7 -> 1086.1951 | AB36: =+AA37-0.01 -> 1228.543 | AC36: =+S36/15*7 -> 74.805592
L37: 5335.43 | M37: =+L38-0.01 -> 6224.67 | N37: 294.63 | Q37: =(L37/30.4)*15 -> 2632.6135 | R37: =+Q38-0.01 -> 3071.3782 | S37: =(N37/30.4)*15 -> 145.37664 | V37: =(L37/30.4)*14 -> 2457.1059 | W37: =+V38-0.01 -> 2866.6189 | X37: =(N37/30.4)*14 -> 135.68487 | AA37: =+Q37/15*7 -> 1228.553 | AB37: =+AA38-0.01 -> 1433.3045 | AC37: =+S37/15*7 -> 67.842434
L38: 6224.68 | M38: =+L39-0.01 -> 7113.9 | N38: 253.54 | Q38: =(L38/30.4)*15 -> 3071.3882 | R38: =+Q39-0.01 -> 3510.143 | S38: =(N38/30.4)*15 -> 125.10197 | V38: =(L38/30.4)*14 -> 2866.6289 | W38: =+V39-0.01 -> 3276.1328 | X38: =(N38/30.4)*14 -> 116.76184 | AA38: =+Q38/15*7 -> 1433.3145 | AB38: =+AA39-0.01 -> 1638.0614 | AC38: =+S38/15*7 -> 58.380921
L39: 7113.91 | M39: =+L40-0.01 -> 7382.33 | N39: 217.61 | Q39: =(L39/30.4)*15 -> 3510.153 | R39: =+Q40-0.01 -> 3642.592 | S39: =(N39/30.4)*15 -> 107.37336 | V39: =(L39/30.4)*14 -> 3276.1428 | W39: =+V40-0.01 -> 3399.7518 | X39: =(N39/30.4)*14 -> 100.21513 | AA39: =+Q39/15*7 -> 1638.0714 | AB39: =+AA40-0.01 -> 1699.8709 | AC39: =+S39/15*7 -> 50.107566
L40: 7382.34 | M40: 9999999 | N40: 0 | Q40: =(L40/30.4)*15 -> 3642.602 | R40: 9999999 | S40: =(N40/30.4)*15 -> 0 | V40: =(L40/30.4)*14 -> 3399.7618 | W40: 9999999 | X40: =(S40/15)*14 -> 0 | AA40: =+Q40/15*7 -> 1699.8809 | AB40: 9999999 | AC40: =+S40/15*7 -> 0
